BEGIN:VCALENDAR
VERSION:2.0
BEGIN:VEVENT
URL:https://www.networkinaction.com/index.php/events/viewevent/10851-cougar-connection-central-monthly-meeting?groupid=14 
DTSTART:20221214T153000
DTEND:20221214T170000
SUMMARY:Cougar Connection - Central Monthly Meeting
DESCRIPTION:<p>Come network with business owners who are intentional about helping you build relationships that last a lifetime! Our group is committed to helping you to create more warm leads that convert to sales. </p><p><b>Remember to bring a book (wrapped) that has had a significant impact on your life or business for our White Elephant gift exchange!  </b></p><p>Look forward to seeing you there!!!</p>
LOCATION:Warehouse 72, 7620 Katy Fwy #305, Houston, TX 77024
END:VEVENT
END:VCALENDAR