BEGIN:VCALENDAR
VERSION:2.0
BEGIN:VEVENT
URL:https://www.networkinaction.com/index.php/events/viewevent/10820-get-known-get-connected-scale-your-business?groupid=215 
DTSTART:20221214T150000
DTEND:20221214T163000
SUMMARY:Get Known, Get connected, Scale Your Business!
DESCRIPTION:<p>❓ Do you want to connect with entrepreneurs who are truly best in their industries? </p><p>❓ Are you looking to surround yourself with like-minded peers who get results? </p><p>Then NIA is for you! We create meaningful strategic connections that will help you grow and scale your business. We would love to see you there. </p><p>Our mastermind community is for scale-focused entrepreneurs and CEOs motivated by results, committed to growth, willing to be engaged and support others to scale their business and yours as well. </p><p>If this sounds interesting, come check us out it'll be fun and you won't be disappointed. Lite bites and first round of drinks are on me!</p><p>🔶 Experience the NIA Difference 🔶</p><p>♦ Monthly Meetings to get focused strategy time to actually work ON your business, distraction FREE</p><p>♦ Professional Leadership dedicated to YOUR SUCCESS!</p><p>♦ State of the Art Technology</p>
LOCATION:Norm's of Yakima, 5 N Front St, Yakima, WA 98901
END:VEVENT
END:VCALENDAR