BEGIN:VCALENDAR
VERSION:2.0
BEGIN:VEVENT
URL:https://www.networkinaction.com/index.php/events/viewevent/10206-general-mandatory-meeting-tuesday-september-13th-9-00am?groupid=289 
DTSTART:20220913T090000
DTEND:20220913T100000
SUMMARY:General Mandatory Meeting - Tuesday, September 13th @ 9:00am
DESCRIPTION:<p>During this one-hour required monthly meeting, we will have a guest speaker who will bring value to our businesses.  We will network and see where we can support each other's business growth.<br /></p><br />
LOCATION:zoomwithdrroundtree.com
END:VEVENT
END:VCALENDAR