BEGIN:VCALENDAR
VERSION:2.0
BEGIN:VEVENT
URL:https://www.networkinaction.com/index.php/events/viewevent/10141-wbf-september-meeting?groupid=77 
DTSTART:20220913T150000
DTEND:20220913T163000
SUMMARY:WBF September Meeting
DESCRIPTION:<p>It's time for our September meeting. Come out and join the members of Westchase Business Force for our monthly meeting to network with the elite business owners in our group. We have a great meeting planned and you will want to be there.</p>
LOCATION:Saltgrass Steakhouse, 8943 Katy Fwy, Houston, TX 77024
END:VEVENT
END:VCALENDAR