BEGIN:VCALENDAR
VERSION:2.0
BEGIN:VEVENT
URL:https://www.networkinaction.com/index.php/events/viewevent/10140-vbf-september-happy-hour?groupid=147 
DTSTART:20220908T170000
DTEND:20220908T200000
SUMMARY:VBF September Happy Hour
DESCRIPTION:<p>An informal gathering and networking event for Veteran Business Owners being hosted by Network In Action Veterans Business Force and Houston Regional Veterans Business Chamber.
</p>
<p>You don't have to be a veteran to attend.  If you would like to meet terrific veteran business owners, come join us.</p><p>Brought to you by Network In Action Veterans Business Force, Houston Regional Veterans Chamber of Commerce, and Marketing Dynamics</p>




LOCATION:Brenner's On The Bayou, Blue Bar, 1 Birdsall St, Houston, TX 77007
END:VEVENT
END:VCALENDAR