BEGIN:VCALENDAR
VERSION:2.0
BEGIN:VEVENT
URL:https://www.networkinaction.com/index.php/events/viewevent/10054-lunch-refresh?groupid=237 
DTSTART:20220826T120000
DTEND:20220826T130000
SUMMARY:Lunch & Refresh
DESCRIPTION:
LOCATION:Stone Town Grill, 705 32nd Ave E, West Fargo, ND 58078
END:VEVENT
END:VCALENDAR