BEGIN:VCALENDAR
VERSION:2.0
BEGIN:VEVENT
URL:https://www.networkinaction.com/index.php/events/viewevent/10052-social-mixer-thursday-august-30th-6-30pm-fiwe-caribbean-cuisine-410-evernia-street-unit-108-west-palm-beach-fl?groupid=136 
DTSTART:20220830T183000
DTEND:20220831T200000
SUMMARY:Social Mixer - Thursday, August 30th @ 6:30pm - FIWE Caribbean Cuisine, 410 Evernia Street, Unit #108, West Palm Beach, FL
DESCRIPTION:<p>Let's connect over good food and good conversation at FIWE Caribbean Cuisine in West Palm Beach, FL.  Guests are welcome<br /></p>
LOCATION:FIWE Caribbean Cuisine, 410 Evernia Street, Unit #108, West Palm Beach, FL
END:VEVENT
END:VCALENDAR