BEGIN:VCALENDAR
VERSION:2.0
BEGIN:VEVENT
URL:https://www.networkinaction.com/index.php/events/viewevent/10046-social-mixer-fiwe-caribbean-cuisine-410-evernia-street-west-palm-beach-fl?groupid=289 
DTSTART:20220830T063000
DTEND:20220830T200000
SUMMARY:Social Mixer - FIWE Caribbean Cuisine, 410 Evernia Street, West Palm Beach, FL 
DESCRIPTION:<p>Let's connect over good food and good conversation at FIWE Caribbean Cuisine in West Palm Beach, FL.  Guests are welcome</p>
LOCATION:410 Evernia Street, #801, West Palm Beach, FL  33401
END:VEVENT
END:VCALENDAR