BEGIN:VCALENDAR
VERSION:2.0
BEGIN:VEVENT
URL:https://www.networkinaction.com/index.php/events/viewevent/10017-launch-learn?groupid=237 
DTSTART:20220817T140000
DTEND:20220817T153000
SUMMARY:Launch & Learn
DESCRIPTION:<p>Come network with business owners who are intentional about helping you build relationships that last a lifetime! Our group is committed to helping you to create more warm leads that convert to sales. Check us out, your first visit is free!</p><p>Discover the new and powerful system for building your own authentic, healthy business network. Meet other entrepreneurial and community-minded business leaders in this professionally facilitated networking event. Cut through the noise with the power of relationships that last!</p>
LOCATION:The Boiler Room, Robert's Alley, Fargo
END:VEVENT
END:VCALENDAR