BEGIN:VCALENDAR
VERSION:2.0
BEGIN:VEVENT
URL:https://www.networkinaction.com/index.php/events/viewevent/10009-connect-grow-success?groupid=236 
DTSTART:20220913T150000
DTEND:20220913T163000
SUMMARY:Connect. Grow. Success!
DESCRIPTION:We bring the best of the best business owners together for collaboration for the busy professional in the 21st century. Opportunity for positions are filling up quickly, contact me to learn more how you can be a part to level up your business!
LOCATION:LULU Restaurant 606 Columbia Point Dr, Richland, WA 99352
END:VEVENT
END:VCALENDAR