BEGIN:VCALENDAR
VERSION:2.0
BEGIN:VEVENT
URL:https://www.networkinaction.com/index.php/events/viewevent/10001-heights-nia-monthly-meeting-3-00-to-4-30?groupid=1 
DTSTART:20220908T150000
DTEND:20220908T163000
SUMMARY:Heights NIA Monthly Meeting 3:00 to 4:30 
DESCRIPTION:What does Soccer have in common with networking? Come find out as we host this months meeting at The Soccer Box!   Great meeting to ring a guest and knock out your 60 points!
LOCATION:2211 Sabine Street  The Soccer Box 
END:VEVENT
END:VCALENDAR